BEGIN:VCALENDAR
VERSION:2.0
PRODID:-//Philadelphia Yearly Meeting - ECPv6.15.18//NONSGML v1.0//EN
CALSCALE:GREGORIAN
METHOD:PUBLISH
X-WR-CALNAME:Philadelphia Yearly Meeting
X-ORIGINAL-URL:https://www.pym.org
X-WR-CALDESC:Events for Philadelphia Yearly Meeting
REFRESH-INTERVAL;VALUE=DURATION:PT1H
X-Robots-Tag:noindex
X-PUBLISHED-TTL:PT1H
BEGIN:VTIMEZONE
TZID:America/New_York
BEGIN:DAYLIGHT
TZOFFSETFROM:-0500
TZOFFSETTO:-0400
TZNAME:EDT
DTSTART:20250309T070000
END:DAYLIGHT
BEGIN:STANDARD
TZOFFSETFROM:-0400
TZOFFSETTO:-0500
TZNAME:EST
DTSTART:20251102T060000
END:STANDARD
BEGIN:DAYLIGHT
TZOFFSETFROM:-0500
TZOFFSETTO:-0400
TZNAME:EDT
DTSTART:20260308T070000
END:DAYLIGHT
BEGIN:STANDARD
TZOFFSETFROM:-0400
TZOFFSETTO:-0500
TZNAME:EST
DTSTART:20261101T060000
END:STANDARD
BEGIN:DAYLIGHT
TZOFFSETFROM:-0500
TZOFFSETTO:-0400
TZNAME:EDT
DTSTART:20270314T070000
END:DAYLIGHT
BEGIN:STANDARD
TZOFFSETFROM:-0400
TZOFFSETTO:-0500
TZNAME:EST
DTSTART:20271107T060000
END:STANDARD
END:VTIMEZONE
BEGIN:VEVENT
DTSTART;TZID=America/New_York:20260425T123000
DTEND;TZID=America/New_York:20260425T144500
DTSTAMP:20260422T082252
CREATED:20260409T180918Z
LAST-MODIFIED:20260409T180930Z
UID:110661-1777120200-1777128300@www.pym.org
SUMMARY:Love as Action: Philadelphia (AFSC Public Witness)
DESCRIPTION:Quaker public witness has stood in opposition to cruel and authoritarian actions in our country before. It is time for us to show this love in action again.\nPlease join the American Friends Service Committee and Philadelphia Area Quakers to bear peaceful witness and show resistance to the authoritarian actions in our country. \nSaturday\, April 25\n1:30 PM \nWe will gather at Philadelphia City Hall for one hour of silent public worship\, with art and signs \n12:30 PM\nArt & sign making at Friend’s Center prior to the action. April’s art build will be co-led by Meg Barney (Providence Friends Meeting) and Claire Kinnel (Newtown Friends Meeting) \n\nHelp the organizers: \n RSVP to attend! \n(links to Mobilize for American Friends Service Committee) \nOur hope is that our presence will give hope to all who see us – to show that we can choose resistance – and remind everyone of our moral obligations to one another. \nWe gather monthly in communities across the country\, showing our communities love in action as a public witness of our Quaker values in a time of rising fascism. \nTo find our more about Love as Action nationally and get more resources visit us at afsc.org/love-action
URL:https://www.pym.org/event/love-as-action-philadelphia-afsc-public-witness/
LOCATION:Friends Center\, 1501 Cherry St\, Philadelphia\, Pennsylvania\, 19102\, United States
CATEGORIES:Peace & Social Justice
ATTACH;FMTTYPE=image/avif:https://www.pym.org/wp-content/uploads/2026/04/Love-as-Action-April-Philadelphia-2026-1.avif
ORGANIZER;CN="American Friends Service Committee":MAILTO:events@afsc.org
END:VEVENT
END:VCALENDAR