BEGIN:VCALENDAR
VERSION:2.0
PRODID:-//Philadelphia Yearly Meeting - ECPv6.15.18//NONSGML v1.0//EN
CALSCALE:GREGORIAN
METHOD:PUBLISH
X-WR-CALNAME:Philadelphia Yearly Meeting
X-ORIGINAL-URL:https://www.pym.org
X-WR-CALDESC:Events for Philadelphia Yearly Meeting
REFRESH-INTERVAL;VALUE=DURATION:PT1H
X-Robots-Tag:noindex
X-PUBLISHED-TTL:PT1H
BEGIN:VTIMEZONE
TZID:America/New_York
BEGIN:DAYLIGHT
TZOFFSETFROM:-0500
TZOFFSETTO:-0400
TZNAME:EDT
DTSTART:20250309T070000
END:DAYLIGHT
BEGIN:STANDARD
TZOFFSETFROM:-0400
TZOFFSETTO:-0500
TZNAME:EST
DTSTART:20251102T060000
END:STANDARD
BEGIN:DAYLIGHT
TZOFFSETFROM:-0500
TZOFFSETTO:-0400
TZNAME:EDT
DTSTART:20260308T070000
END:DAYLIGHT
BEGIN:STANDARD
TZOFFSETFROM:-0400
TZOFFSETTO:-0500
TZNAME:EST
DTSTART:20261101T060000
END:STANDARD
BEGIN:DAYLIGHT
TZOFFSETFROM:-0500
TZOFFSETTO:-0400
TZNAME:EDT
DTSTART:20270314T070000
END:DAYLIGHT
BEGIN:STANDARD
TZOFFSETFROM:-0400
TZOFFSETTO:-0500
TZNAME:EST
DTSTART:20271107T060000
END:STANDARD
END:VTIMEZONE
BEGIN:VEVENT
DTSTART;TZID=America/New_York:20260426T130000
DTEND;TZID=America/New_York:20260426T150000
DTSTAMP:20260419T112300
CREATED:20260414T161953Z
LAST-MODIFIED:20260414T161953Z
UID:110745-1777208400-1777215600@www.pym.org
SUMMARY:New Draft Law Passed: People of Conscience Get Ready
DESCRIPTION:Quaker author Curt Torell will explain recent legal changes in draft registration and outline steps for conscientious objectors to war to respond. Then the group will self-organize next steps for mutual support and counsel. Everyone is welcome. \nJoin in-person or on Zoom at the following Meetinghouses: \n\nMontclair Meeting (289 Park St\, Upper Montclair\, NJ 07043): April 26\, 1:00 – 3:00 pm\nOld Chatham Meeting (539 Co Rd 13\, Old Chatham\, NY 12136): May 3\, 1:00 – 3:00 pm\nBrooklyn Meeting (110 Schermerhorn Street Brooklyn\, NY 11201): May 11\, 6:00 – 8:00 pm\n\nIn the session\, we’ll consider together questions such as: What is conscience? Is your conscience troubled? How do you act on conscience? Who is a conscientious objector? \nFor context\, the National Defense Authorization Act (NDAA) passed at the end of last year will make federal Selective Service draft registration automatic for all men aged 18-25 starting in December 2026. The US Government wouldn’t bother doing this if they didn’t plan to use it. Unfortunately\, a person cannot file a conscientious objection claim until getting an induction notice once a draft is instated\, sometimes giving less than 10 days to respond. Are you\, your family\, and your faith community prepared? \nRegister at https://docs.google.com/forms/d/e/1FAIpQLScKVvzB5SN6xYufRrPGDA21ffRnGfIi1ApOQT7GSpF9bV5uUA/viewform.
URL:https://www.pym.org/event/new-draft-law-passed-people-of-conscience-get-ready/
LOCATION:Montclair Meeting (289 Park St\, Upper Montclair\, NJ 07043)
CATEGORIES:Families,Ministry and Care,Peace & Social Justice,Religious Education
ATTACH;FMTTYPE=image/jpeg:https://www.pym.org/wp-content/uploads/2026/04/shutterstock_2336510053.jpg
END:VEVENT
BEGIN:VEVENT
DTSTART;TZID=America/New_York:20260503T130000
DTEND;TZID=America/New_York:20260503T150000
DTSTAMP:20260419T112300
CREATED:20260414T162227Z
LAST-MODIFIED:20260414T162227Z
UID:110749-1777813200-1777820400@www.pym.org
SUMMARY:New Draft Law Passed: People of Conscience Get Ready
DESCRIPTION:Quaker author Curt Torell will explain recent legal changes in draft registration and outline steps for conscientious objectors to war to respond. Then the group will self-organize next steps for mutual support and counsel. Everyone is welcome. \nJoin in-person or on Zoom at the following Meetinghouses: \n\nMontclair Meeting (289 Park St\, Upper Montclair\, NJ 07043): April 26\, 1:00 – 3:00 pm\nOld Chatham Meeting (539 Co Rd 13\, Old Chatham\, NY 12136): May 3\, 1:00 – 3:00 pm\nBrooklyn Meeting (110 Schermerhorn Street Brooklyn\, NY 11201): May 11\, 6:00 – 8:00 pm\n\nIn the session\, we’ll consider together questions such as: What is conscience? Is your conscience troubled? How do you act on conscience? Who is a conscientious objector? \nFor context\, the National Defense Authorization Act (NDAA) passed at the end of last year will make federal Selective Service draft registration automatic for all men aged 18-25 starting in December 2026. The US Government wouldn’t bother doing this if they didn’t plan to use it. Unfortunately\, a person cannot file a conscientious objection claim until getting an induction notice once a draft is instated\, sometimes giving less than 10 days to respond. Are you\, your family\, and your faith community prepared? \nRegister at https://docs.google.com/forms/d/e/1FAIpQLScKVvzB5SN6xYufRrPGDA21ffRnGfIi1ApOQT7GSpF9bV5uUA/viewform.
URL:https://www.pym.org/event/new-draft-law-passed-people-of-conscience-get-ready-2/
LOCATION:Old Chatham Meeting (539 Co Rd 13\, Old Chatham\, NY 12136): May 3\, 1:00 – 3:00 pm
CATEGORIES:Families,Ministry and Care,Peace & Social Justice,Religious Education
ATTACH;FMTTYPE=image/jpeg:https://www.pym.org/wp-content/uploads/2026/04/shutterstock_2336510053.jpg
END:VEVENT
BEGIN:VEVENT
DTSTART;TZID=America/New_York:20260511T180000
DTEND;TZID=America/New_York:20260511T200000
DTSTAMP:20260419T112300
CREATED:20260414T162509Z
LAST-MODIFIED:20260414T162509Z
UID:110751-1778522400-1778529600@www.pym.org
SUMMARY:New Draft Law Passed: People of Conscience Get Ready
DESCRIPTION:Quaker author Curt Torell will explain recent legal changes in draft registration and outline steps for conscientious objectors to war to respond. Then the group will self-organize next steps for mutual support and counsel. Everyone is welcome. \nJoin in-person or on Zoom at the following Meetinghouses: \n\nMontclair Meeting (289 Park St\, Upper Montclair\, NJ 07043): April 26\, 1:00 – 3:00 pm\nOld Chatham Meeting (539 Co Rd 13\, Old Chatham\, NY 12136): May 3\, 1:00 – 3:00 pm\nBrooklyn Meeting (110 Schermerhorn Street Brooklyn\, NY 11201): May 11\, 6:00 – 8:00 pm\n\nIn the session\, we’ll consider together questions such as: What is conscience? Is your conscience troubled? How do you act on conscience? Who is a conscientious objector? \nFor context\, the National Defense Authorization Act (NDAA) passed at the end of last year will make federal Selective Service draft registration automatic for all men aged 18-25 starting in December 2026. The US Government wouldn’t bother doing this if they didn’t plan to use it. Unfortunately\, a person cannot file a conscientious objection claim until getting an induction notice once a draft is instated\, sometimes giving less than 10 days to respond. Are you\, your family\, and your faith community prepared? \nRegister at https://docs.google.com/forms/d/e/1FAIpQLScKVvzB5SN6xYufRrPGDA21ffRnGfIi1ApOQT7GSpF9bV5uUA/viewform.
URL:https://www.pym.org/event/new-draft-law-passed-people-of-conscience-get-ready-3/
LOCATION:Brooklyn Meeting (110 Schermerhorn Street Brooklyn\, NY 11201)
CATEGORIES:Families,Ministry and Care,Peace & Social Justice,Religious Education
ATTACH;FMTTYPE=image/jpeg:https://www.pym.org/wp-content/uploads/2026/04/shutterstock_2336510053.jpg
END:VEVENT
END:VCALENDAR