BEGIN:VCALENDAR
VERSION:2.0
PRODID:-//Philadelphia Yearly Meeting - ECPv6.15.18//NONSGML v1.0//EN
CALSCALE:GREGORIAN
METHOD:PUBLISH
X-WR-CALNAME:Philadelphia Yearly Meeting
X-ORIGINAL-URL:https://www.pym.org
X-WR-CALDESC:Events for Philadelphia Yearly Meeting
REFRESH-INTERVAL;VALUE=DURATION:PT1H
X-Robots-Tag:noindex
X-PUBLISHED-TTL:PT1H
BEGIN:VTIMEZONE
TZID:America/New_York
BEGIN:DAYLIGHT
TZOFFSETFROM:-0500
TZOFFSETTO:-0400
TZNAME:EDT
DTSTART:20240310T070000
END:DAYLIGHT
BEGIN:STANDARD
TZOFFSETFROM:-0400
TZOFFSETTO:-0500
TZNAME:EST
DTSTART:20241103T060000
END:STANDARD
BEGIN:DAYLIGHT
TZOFFSETFROM:-0500
TZOFFSETTO:-0400
TZNAME:EDT
DTSTART:20250309T070000
END:DAYLIGHT
BEGIN:STANDARD
TZOFFSETFROM:-0400
TZOFFSETTO:-0500
TZNAME:EST
DTSTART:20251102T060000
END:STANDARD
BEGIN:DAYLIGHT
TZOFFSETFROM:-0500
TZOFFSETTO:-0400
TZNAME:EDT
DTSTART:20260308T070000
END:DAYLIGHT
BEGIN:STANDARD
TZOFFSETFROM:-0400
TZOFFSETTO:-0500
TZNAME:EST
DTSTART:20261101T060000
END:STANDARD
END:VTIMEZONE
BEGIN:VEVENT
DTSTART;TZID=America/New_York:20250507T190000
DTEND;TZID=America/New_York:20250507T203000
DTSTAMP:20260419T112306
CREATED:20250109T160013Z
LAST-MODIFIED:20250109T160347Z
UID:46804-1746644400-1746649800@www.pym.org
SUMMARY:Building a Meaningful & Connected Life eRetreat
DESCRIPTION:The Building a Meaningful and Connected Life eRetreat delves into the profound spirituality of meaning-making\, resilience\, renewal\, and life transitions. Through contemplative practices and insightful discussions\, we navigate the rich tapestry of growing older at any age\, embracing its spiritual gifts across the lifespan. Join us as we explore the depths of personal growth\, connection\, and purpose\, fostering a deeper understanding of what it means to lead a truly meaningful and connected life.
URL:https://www.pym.org/event/building-a-meaningful-connected-life-eretreat/2025-05-07/
LOCATION:Via Zoom\, Zoom Link Available Upon Registration
CATEGORIES:Spirituality
ATTACH;FMTTYPE=image/png:https://www.pym.org/wp-content/uploads/2025/01/BMCL-2025.png
ORGANIZER;CN="Friends General Conference":MAILTO:spiritualdeepening@fgcquaker.org
END:VEVENT
BEGIN:VEVENT
DTSTART;TZID=America/New_York:20250430T190000
DTEND;TZID=America/New_York:20250430T203000
DTSTAMP:20260419T112306
CREATED:20250109T160013Z
LAST-MODIFIED:20250109T160346Z
UID:46803-1746039600-1746045000@www.pym.org
SUMMARY:Building a Meaningful & Connected Life eRetreat
DESCRIPTION:The Building a Meaningful and Connected Life eRetreat delves into the profound spirituality of meaning-making\, resilience\, renewal\, and life transitions. Through contemplative practices and insightful discussions\, we navigate the rich tapestry of growing older at any age\, embracing its spiritual gifts across the lifespan. Join us as we explore the depths of personal growth\, connection\, and purpose\, fostering a deeper understanding of what it means to lead a truly meaningful and connected life.
URL:https://www.pym.org/event/building-a-meaningful-connected-life-eretreat/2025-04-30/
LOCATION:Via Zoom\, Zoom Link Available Upon Registration
CATEGORIES:Spirituality
ATTACH;FMTTYPE=image/png:https://www.pym.org/wp-content/uploads/2025/01/BMCL-2025.png
ORGANIZER;CN="Friends General Conference":MAILTO:spiritualdeepening@fgcquaker.org
END:VEVENT
BEGIN:VEVENT
DTSTART;TZID=America/New_York:20250423T190000
DTEND;TZID=America/New_York:20250423T203000
DTSTAMP:20260419T112306
CREATED:20250109T160013Z
LAST-MODIFIED:20250109T160345Z
UID:46802-1745434800-1745440200@www.pym.org
SUMMARY:Building a Meaningful & Connected Life eRetreat
DESCRIPTION:The Building a Meaningful and Connected Life eRetreat delves into the profound spirituality of meaning-making\, resilience\, renewal\, and life transitions. Through contemplative practices and insightful discussions\, we navigate the rich tapestry of growing older at any age\, embracing its spiritual gifts across the lifespan. Join us as we explore the depths of personal growth\, connection\, and purpose\, fostering a deeper understanding of what it means to lead a truly meaningful and connected life.
URL:https://www.pym.org/event/building-a-meaningful-connected-life-eretreat/2025-04-23/
LOCATION:Via Zoom\, Zoom Link Available Upon Registration
CATEGORIES:Spirituality
ATTACH;FMTTYPE=image/png:https://www.pym.org/wp-content/uploads/2025/01/BMCL-2025.png
ORGANIZER;CN="Friends General Conference":MAILTO:spiritualdeepening@fgcquaker.org
END:VEVENT
BEGIN:VEVENT
DTSTART;TZID=America/New_York:20250402T190000
DTEND;TZID=America/New_York:20250402T203000
DTSTAMP:20260419T112306
CREATED:20250109T160013Z
LAST-MODIFIED:20250109T160343Z
UID:46793-1743620400-1743625800@www.pym.org
SUMMARY:Building a Meaningful & Connected Life eRetreat
DESCRIPTION:The Building a Meaningful and Connected Life eRetreat delves into the profound spirituality of meaning-making\, resilience\, renewal\, and life transitions. Through contemplative practices and insightful discussions\, we navigate the rich tapestry of growing older at any age\, embracing its spiritual gifts across the lifespan. Join us as we explore the depths of personal growth\, connection\, and purpose\, fostering a deeper understanding of what it means to lead a truly meaningful and connected life.
URL:https://www.pym.org/event/building-a-meaningful-connected-life-eretreat/2025-04-02/
LOCATION:Via Zoom\, Zoom Link Available Upon Registration
CATEGORIES:Spirituality
ATTACH;FMTTYPE=image/png:https://www.pym.org/wp-content/uploads/2025/01/BMCL-2025.png
ORGANIZER;CN="Friends General Conference":MAILTO:spiritualdeepening@fgcquaker.org
END:VEVENT
END:VCALENDAR