BEGIN:VCALENDAR
VERSION:2.0
PRODID:-//Philadelphia Yearly Meeting - ECPv6.15.18//NONSGML v1.0//EN
CALSCALE:GREGORIAN
METHOD:PUBLISH
X-ORIGINAL-URL:https://www.pym.org
X-WR-CALDESC:Events for Philadelphia Yearly Meeting
REFRESH-INTERVAL;VALUE=DURATION:PT1H
X-Robots-Tag:noindex
X-PUBLISHED-TTL:PT1H
BEGIN:VTIMEZONE
TZID:America/New_York
BEGIN:DAYLIGHT
TZOFFSETFROM:-0500
TZOFFSETTO:-0400
TZNAME:EDT
DTSTART:20250309T070000
END:DAYLIGHT
BEGIN:STANDARD
TZOFFSETFROM:-0400
TZOFFSETTO:-0500
TZNAME:EST
DTSTART:20251102T060000
END:STANDARD
BEGIN:DAYLIGHT
TZOFFSETFROM:-0500
TZOFFSETTO:-0400
TZNAME:EDT
DTSTART:20260308T070000
END:DAYLIGHT
BEGIN:STANDARD
TZOFFSETFROM:-0400
TZOFFSETTO:-0500
TZNAME:EST
DTSTART:20261101T060000
END:STANDARD
BEGIN:DAYLIGHT
TZOFFSETFROM:-0500
TZOFFSETTO:-0400
TZNAME:EDT
DTSTART:20270314T070000
END:DAYLIGHT
BEGIN:STANDARD
TZOFFSETFROM:-0400
TZOFFSETTO:-0500
TZNAME:EST
DTSTART:20271107T060000
END:STANDARD
END:VTIMEZONE
BEGIN:VEVENT
DTSTART;TZID=America/New_York:20260425T140000
DTEND;TZID=America/New_York:20260425T170000
DTSTAMP:20260423T112235
CREATED:20260417T145304Z
LAST-MODIFIED:20260417T145304Z
UID:110824-1777125600-1777136400@www.pym.org
SUMMARY:Let’s Be Friends: Merion Friends Meeting Celebrates The Life Of Joseph Price
DESCRIPTION:Join us on Saturday\, April 25 at 2:00 pm for a special program celebrating Quaker Joseph Price\, brought to life by reenactor Stephen Pierce. \nDiscover the many roles he held – as a Quaker\, farmer\, innkeeper\, undertaker\, militiaman\, diarist\, sawmill operator\, milestone installer\, carpenter\, turnpike supervisor\, patriot\, and engaged Lower Merion community member. \nFollowing the program\, guests are invited to stay for a guided tour of the 1695 National Historic Landmark Meeting House\, along with the burial ground and historic horse sheds. \nRefreshments will be served following the program in Friends Hall. \n615 Montgomery Avenue\, Merion Station\, PA 19066 \nAll are welcome. \nFree registration is available at www.merionfriends.org
URL:https://www.pym.org/event/lets-be-friends-merion-friends-meeting-celebrates-the-life-of-joseph-price/
LOCATION:Merion Friends Meeting\, 615 Montgomery Ave\, Merion\, PA
CATEGORIES:Quaker History
ATTACH;FMTTYPE=image/png:https://www.pym.org/wp-content/uploads/2026/04/Screen-Shot-2026-04-15-at-10.21.51-AM.png
ORGANIZER;CN="Merion Friends Meeting":MAILTO:rfsutton@iupui.edu
END:VEVENT
END:VCALENDAR