BEGIN:VCALENDAR
VERSION:2.0
PRODID:-//Philadelphia Yearly Meeting - ECPv6.15.18//NONSGML v1.0//EN
CALSCALE:GREGORIAN
METHOD:PUBLISH
X-WR-CALNAME:Philadelphia Yearly Meeting
X-ORIGINAL-URL:https://www.pym.org
X-WR-CALDESC:Events for Philadelphia Yearly Meeting
REFRESH-INTERVAL;VALUE=DURATION:PT1H
X-Robots-Tag:noindex
X-PUBLISHED-TTL:PT1H
BEGIN:VTIMEZONE
TZID:America/New_York
BEGIN:DAYLIGHT
TZOFFSETFROM:-0500
TZOFFSETTO:-0400
TZNAME:EDT
DTSTART:20250309T070000
END:DAYLIGHT
BEGIN:STANDARD
TZOFFSETFROM:-0400
TZOFFSETTO:-0500
TZNAME:EST
DTSTART:20251102T060000
END:STANDARD
BEGIN:DAYLIGHT
TZOFFSETFROM:-0500
TZOFFSETTO:-0400
TZNAME:EDT
DTSTART:20260308T070000
END:DAYLIGHT
BEGIN:STANDARD
TZOFFSETFROM:-0400
TZOFFSETTO:-0500
TZNAME:EST
DTSTART:20261101T060000
END:STANDARD
BEGIN:DAYLIGHT
TZOFFSETFROM:-0500
TZOFFSETTO:-0400
TZNAME:EDT
DTSTART:20270314T070000
END:DAYLIGHT
BEGIN:STANDARD
TZOFFSETFROM:-0400
TZOFFSETTO:-0500
TZNAME:EST
DTSTART:20271107T060000
END:STANDARD
END:VTIMEZONE
BEGIN:VEVENT
DTSTART;VALUE=DATE:20260417
DTEND;VALUE=DATE:20260420
DTSTAMP:20260419T105341
CREATED:20251010T140352Z
LAST-MODIFIED:20260130T201215Z
UID:88774-1776384000-1776643199@www.pym.org
SUMMARY:Come join the Circle!  The Quakers Healing Circle!
DESCRIPTION:Come join the Circle! The Quakers Healing Circle! \nREGISTER NOW for the 2026 gathering of the Quakers Healing Circle!\nThis is an opportunity to make connections and join with a community of Quaker Healers\nfrom across the country as we share experiences\, learn about our history and the\nmodalities we practice in a deeply worshipful setting. If you are a seeker we welcome you!\nThis is an opportunity to experience the deep spirituality of this practice; to feel the energy\nthat moves through and among us and to open to that healing energy as it moves through\nyou. If there is a nudge for you to come\, we hope that you will listen to that! Everyone is\nwelcome! The dates are April 17th to April 19th\, 2026\, at New York Yearly Meeting’s Powell\nHouse\, 524 Pitt Hall Rd\, Old Chatham\, NY (https://www.powellhouse.org/event-list).\nQuestions? Contact Greta Kirk Mickey at greta.mickey@gmail.com.
URL:https://www.pym.org/event/come-join-the-circle-the-quakers-healing-circle/
LOCATION:Powell House\, 524 Pitt Hall Rd\, Old Chatham\, NY\, 12136\, United States
CATEGORIES:Retreat
ATTACH;FMTTYPE=image/jpeg:https://www.pym.org/wp-content/uploads/2025/10/hands-around-globe.jpg
GEO:42.430947;-73.5747568
X-APPLE-STRUCTURED-LOCATION;VALUE=URI;X-ADDRESS=Powell House 524 Pitt Hall Rd Old Chatham NY 12136 United States;X-APPLE-RADIUS=500;X-TITLE=524 Pitt Hall Rd:geo:-73.5747568,42.430947
END:VEVENT
END:VCALENDAR