BEGIN:VCALENDAR
VERSION:2.0
PRODID:-//Philadelphia Yearly Meeting - ECPv6.15.18//NONSGML v1.0//EN
CALSCALE:GREGORIAN
METHOD:PUBLISH
X-WR-CALNAME:Philadelphia Yearly Meeting
X-ORIGINAL-URL:https://www.pym.org
X-WR-CALDESC:Events for Philadelphia Yearly Meeting
REFRESH-INTERVAL;VALUE=DURATION:PT1H
X-Robots-Tag:noindex
X-PUBLISHED-TTL:PT1H
BEGIN:VTIMEZONE
TZID:America/New_York
BEGIN:DAYLIGHT
TZOFFSETFROM:-0500
TZOFFSETTO:-0400
TZNAME:EDT
DTSTART:20240310T070000
END:DAYLIGHT
BEGIN:STANDARD
TZOFFSETFROM:-0400
TZOFFSETTO:-0500
TZNAME:EST
DTSTART:20241103T060000
END:STANDARD
BEGIN:DAYLIGHT
TZOFFSETFROM:-0500
TZOFFSETTO:-0400
TZNAME:EDT
DTSTART:20250309T070000
END:DAYLIGHT
BEGIN:STANDARD
TZOFFSETFROM:-0400
TZOFFSETTO:-0500
TZNAME:EST
DTSTART:20251102T060000
END:STANDARD
BEGIN:DAYLIGHT
TZOFFSETFROM:-0500
TZOFFSETTO:-0400
TZNAME:EDT
DTSTART:20260308T070000
END:DAYLIGHT
BEGIN:STANDARD
TZOFFSETFROM:-0400
TZOFFSETTO:-0500
TZNAME:EST
DTSTART:20261101T060000
END:STANDARD
BEGIN:DAYLIGHT
TZOFFSETFROM:-0500
TZOFFSETTO:-0400
TZNAME:EDT
DTSTART:20270314T070000
END:DAYLIGHT
BEGIN:STANDARD
TZOFFSETFROM:-0400
TZOFFSETTO:-0500
TZNAME:EST
DTSTART:20271107T060000
END:STANDARD
END:VTIMEZONE
BEGIN:VEVENT
DTSTART;TZID=America/New_York:20260329T100000
DTEND;TZID=America/New_York:20260329T130000
DTSTAMP:20260423T044133
CREATED:20260324T175851Z
LAST-MODIFIED:20260324T175910Z
UID:110334-1774778400-1774789200@www.pym.org
SUMMARY:Memorial to the Lost at Upper Dublin MM
DESCRIPTION:Please join Upper Dublin MM\, Heeding God’s Call to End Gun Violence\, and Friends Ending Gun Violence Collaborative for the installation and dedication of the Montgomery County Memorial to the Lost\, which honors people who have died by gun violence. Worship at 10 AM\, followed by the installation and dedication.
URL:https://www.pym.org/event/memorial-to-the-lost-at-upper-dublin-mm/
LOCATION:Upper Dublin Quaker Meeting\, Fort Washington Avenue 1505\, Maple Glen\, PA\, 19002\, United States
CATEGORIES:Friends Ending Gun Violence Collaborative
ATTACH;FMTTYPE=image/jpeg:https://www.pym.org/wp-content/uploads/2026/03/Memorial-Tshirt-Panorama-copy.jpeg
ORGANIZER;CN="Pam Yaller":MAILTO:pamyaller@icloud.com
GEO:40.1616751;-75.1873363
X-APPLE-STRUCTURED-LOCATION;VALUE=URI;X-ADDRESS=Upper Dublin Quaker Meeting Fort Washington Avenue 1505 Maple Glen PA 19002 United States;X-APPLE-RADIUS=500;X-TITLE=Fort Washington Avenue 1505:geo:-75.1873363,40.1616751
END:VEVENT
BEGIN:VEVENT
DTSTART;TZID=America/New_York:20250607T093000
DTEND;TZID=America/New_York:20250607T120000
DTSTAMP:20260423T044133
CREATED:20250529T150016Z
LAST-MODIFIED:20250529T150016Z
UID:63396-1749288600-1749297600@www.pym.org
SUMMARY:Memorial to the Lost at Old Haverford MM
DESCRIPTION:Through the support of Heeding God’s Call to End Gun Violence\, Old Haverford Monthly Meeting and Congregation Or Zarua\, along with the Friends Ending Gun Violence Collaborative of PYM will be installing and dedicating a Memorial to the Lost outside of the meetinghouse. We honor and remember those who have died as a result of gun violence\, and we call upon legislators to enact gun reform. Open to all Friends and to the public!
URL:https://www.pym.org/event/memorial-to-the-lost-at-old-haverford-mm/
LOCATION:Old Haverford Meeting\, 235 E Eagle Road\, Havertown\, PA\, 19083\, United States
CATEGORIES:Ending Gun Violence,Friends Ending Gun Violence Collaborative
ATTACH;FMTTYPE=image/jpeg:https://www.pym.org/wp-content/uploads/2025/05/Banner_Memorial-to-the-Lost_Old-Haverford-Friends_Or-Zarua-6-7-25-copy.jpeg
GEO:39.9907235;-75.3047115
X-APPLE-STRUCTURED-LOCATION;VALUE=URI;X-ADDRESS=Old Haverford Meeting 235 E Eagle Road Havertown PA 19083 United States;X-APPLE-RADIUS=500;X-TITLE=235 E Eagle Road:geo:-75.3047115,39.9907235
END:VEVENT
BEGIN:VEVENT
DTSTART;TZID=America/New_York:20250427T150000
DTEND;TZID=America/New_York:20250427T170000
DTSTAMP:20260423T044133
CREATED:20250417T162916Z
LAST-MODIFIED:20250417T162916Z
UID:56839-1745766000-1745773200@www.pym.org
SUMMARY:Ending Gun Violence Day in Ambler PA
DESCRIPTION:The Friends Ending Gun Violence Collaborative is a sponsor of Heeding God’s Call to End Gun Violence program in Ambler.   The day will include honoring those lives lost to gun violence\, prayer\, song and a procession through the city.
URL:https://www.pym.org/event/ending-gun-violence-day-in-ambler-pa/
LOCATION:Church of the Brethren Ambler\, PA\, 351 East Butler Avenue\, Ambler. PA
CATEGORIES:Friends Ending Gun Violence Collaborative
ATTACH;FMTTYPE=image/png:https://www.pym.org/wp-content/uploads/2025/04/Flyer-Heeding-Ambler-EGV-Day-April-27-MAndrews-4-9-25.png
GEO:40.1587412;-75.2162438
X-APPLE-STRUCTURED-LOCATION;VALUE=URI;X-ADDRESS=Church of the Brethren Ambler PA 351 East Butler Avenue Ambler. PA;X-APPLE-RADIUS=500;X-TITLE=351 East Butler Avenue:geo:-75.2162438,40.1587412
END:VEVENT
END:VCALENDAR